BEGIN:VCALENDAR
VERSION:2.0
PRODID:-//Landwirtschaftliches Casino Vilkerath von 1872 e.V. - ECPv6.15.20//NONSGML v1.0//EN
CALSCALE:GREGORIAN
METHOD:PUBLISH
X-WR-CALNAME:Landwirtschaftliches Casino Vilkerath von 1872 e.V.
X-ORIGINAL-URL:http://casino-vilkerath.de
X-WR-CALDESC:Veranstaltungen für Landwirtschaftliches Casino Vilkerath von 1872 e.V.
REFRESH-INTERVAL;VALUE=DURATION:PT1H
X-Robots-Tag:noindex
X-PUBLISHED-TTL:PT1H
BEGIN:VTIMEZONE
TZID:UTC
BEGIN:STANDARD
TZOFFSETFROM:+0000
TZOFFSETTO:+0000
TZNAME:UTC
DTSTART:20230101T000000
END:STANDARD
END:VTIMEZONE
BEGIN:VEVENT
DTSTART;TZID=UTC:20240126T000000
DTEND;TZID=UTC:20240126T000000
DTSTAMP:20260421T185224
CREATED:20240126T223244Z
LAST-MODIFIED:20240126T223244Z
UID:936-1706227200-1706227200@casino-vilkerath.de
SUMMARY:Casinoausflug 2024
DESCRIPTION:Zeche Zollverein Essen
URL:http://casino-vilkerath.de/event/casinoausflug-2024-2/
LOCATION:Soest\, Soest\, Soest\, Nordrhein Westfalen\, 59494
END:VEVENT
BEGIN:VEVENT
DTSTART;TZID=UTC:20240126T200000
DTEND;TZID=UTC:20240126T230000
DTSTAMP:20260421T185224
CREATED:20231126T160829Z
LAST-MODIFIED:20240126T222633Z
UID:831-1706299200-1706310000@casino-vilkerath.de
SUMMARY:Vorstandssitzung
DESCRIPTION:
URL:http://casino-vilkerath.de/event/vorstandssitzung/
LOCATION:Vilkerath\, Vilkerath\, Vilkerath\, 51491\, Deutschland
END:VEVENT
END:VCALENDAR