BEGIN:VCALENDAR
VERSION:2.0
PRODID:-//Landwirtschaftliches Casino Vilkerath von 1872 e.V. - ECPv6.15.20//NONSGML v1.0//EN
CALSCALE:GREGORIAN
METHOD:PUBLISH
X-ORIGINAL-URL:http://casino-vilkerath.de
X-WR-CALDESC:Veranstaltungen für Landwirtschaftliches Casino Vilkerath von 1872 e.V.
REFRESH-INTERVAL;VALUE=DURATION:PT1H
X-Robots-Tag:noindex
X-PUBLISHED-TTL:PT1H
BEGIN:VTIMEZONE
TZID:UTC
BEGIN:STANDARD
TZOFFSETFROM:+0000
TZOFFSETTO:+0000
TZNAME:UTC
DTSTART:20220101T000000
END:STANDARD
END:VTIMEZONE
BEGIN:VEVENT
DTSTART;VALUE=DATE:20231013
DTEND;VALUE=DATE:20231017
DTSTAMP:20260421T234049
CREATED:20230205T173020Z
LAST-MODIFIED:20230205T195122Z
UID:132-1697155200-1697500799@casino-vilkerath.de
SUMMARY:Erntefest 2023
DESCRIPTION:Erntefest 2023
URL:http://casino-vilkerath.de/event/erntefest-2/
LOCATION:Vilkerath\, Vilkerath\, Vilkerath\, 51491\, Deutschland
END:VEVENT
END:VCALENDAR