BEGIN:VCALENDAR
VERSION:2.0
PRODID:-//Landwirtschaftliches Casino Vilkerath von 1872 e.V. - ECPv6.15.20//NONSGML v1.0//EN
CALSCALE:GREGORIAN
METHOD:PUBLISH
X-ORIGINAL-URL:http://casino-vilkerath.de
X-WR-CALDESC:Veranstaltungen für Landwirtschaftliches Casino Vilkerath von 1872 e.V.
REFRESH-INTERVAL;VALUE=DURATION:PT1H
X-Robots-Tag:noindex
X-PUBLISHED-TTL:PT1H
BEGIN:VTIMEZONE
TZID:UTC
BEGIN:STANDARD
TZOFFSETFROM:+0000
TZOFFSETTO:+0000
TZNAME:UTC
DTSTART:20230101T000000
END:STANDARD
END:VTIMEZONE
BEGIN:VEVENT
DTSTART;TZID=UTC:20240622T080000
DTEND;TZID=UTC:20240622T230000
DTSTAMP:20260421T124953
CREATED:20240126T222444Z
LAST-MODIFIED:20240618T152026Z
UID:933-1719043200-1719097200@casino-vilkerath.de
SUMMARY:Casinoausflug 2024
DESCRIPTION:Dieses Jahr führ uns unser Ausflug ins schöne Soest.\nWir treffen uns zu unserer diesjährigen Tour ab 7:45 Uhr an der Bushaltestelle Vilkerath. Abfahrt des Busses ist um 08:00 Uhr! \nHier unser geplanter Ablauf in Kurzauszügen: \nRichtung Nord-Osten  geht unsere Fahrt vorbei an Köln\, Leverkusen und dem schönen Bergischen Land mit dem Ziel Sauerland/Westfalen. Hier nehmen wir an einem herrlichen Aussichtspunkt am westfälischen Meer\, so wird der Möhnesee gerne genannt\, unser traditionelles Frühstück ein. Unser Ziel ist die 1400 Jahre alte Stadt Soest. Während einer Führung durch die Soester Altstadt werden wir viele interessante Informationen und Einblicke erhalten. Natürlich darf hierbei auch die alte Stadtmauer\, errichtet um 1180\,  mit ihrem Wall von 2\,5 km Umfang nicht fehlen. \nEine weitere Spezialität ist das Soester Bier\, auch Zwiebelbier genannt\, das seit 1993 im Brauhaus Zwiebel gebraut wird\, hier kehren wir zum Mittagessen ein. \nNach einem Mittagessen geht es weiter ins benachbarte Bad Sassendorf. Hier kann man\, bei hoffentlich sonnigem Wetter die Stadt\, die Gastronomie und/oder den schönen Kurpark genießen. Wer möchte kann ein Fußbad nehmen (Salzwasser/Gradierwerk). Bitte denkt an ein passendes Handtuch\, um die Füße trocknen zu können. \n  \nDer Abschluss\, mit dem Höhepunkt der Bekanntgabe unseres kommenden Erntepaares zum 152. Erntefest in Vilkerath\, findet im Hohkeppeler Hof (Saal Prues / Hohkeppel) statt.  \n  \n 
URL:http://casino-vilkerath.de/event/casinoausflug-2024/
LOCATION:Soest\, Soest\, Soest\, Nordrhein Westfalen\, 59494
END:VEVENT
END:VCALENDAR