BEGIN:VCALENDAR
VERSION:2.0
PRODID:-//Landwirtschaftliches Casino Vilkerath von 1872 e.V. - ECPv6.15.20//NONSGML v1.0//EN
CALSCALE:GREGORIAN
METHOD:PUBLISH
X-ORIGINAL-URL:http://casino-vilkerath.de
X-WR-CALDESC:Veranstaltungen für Landwirtschaftliches Casino Vilkerath von 1872 e.V.
REFRESH-INTERVAL;VALUE=DURATION:PT1H
X-Robots-Tag:noindex
X-PUBLISHED-TTL:PT1H
BEGIN:VTIMEZONE
TZID:UTC
BEGIN:STANDARD
TZOFFSETFROM:+0000
TZOFFSETTO:+0000
TZNAME:UTC
DTSTART:20230101T000000
END:STANDARD
END:VTIMEZONE
BEGIN:VEVENT
DTSTART;TZID=UTC:20240504T130000
DTEND;TZID=UTC:20240504T170000
DTSTAMP:20260421T142551
CREATED:20240126T221212Z
LAST-MODIFIED:20240323T102040Z
UID:929-1714827600-1714842000@casino-vilkerath.de
SUMMARY:Wanderung in den Frühling 2024
DESCRIPTION:wie jedes Jahr freuen wir uns auf die Wanderung
URL:http://casino-vilkerath.de/event/wanderung-in-den-fruehling-2024/
LOCATION:Grundschule Vilkerath\, Luisenhöhe 22\, Overath\, Overath\, 51491
END:VEVENT
END:VCALENDAR